BEGIN:VCALENDAR
VERSION:2.0
PRODID:-//wp-events-plugin.com//7.2.3.1//EN
TZID:America/New_York
X-WR-TIMEZONE:America/New_York
BEGIN:VEVENT
UID:49@centralsoutherntierraen.org
DTSTART;TZID=America/New_York:20240409T093000
DTEND;TZID=America/New_York:20240409T150000
DTSTAMP:20240308T183220Z
URL:https://www.centralsoutherntierraen.org/events/best-plus-2-0-refresher
 -training/
SUMMARY:BEST Plus 2.0 Refresher Training
DESCRIPTION:Presenter: Kelli Cooney\, CAL Certified Trainer
LOCATION:Mohawk Valley Community College (Utica Campus)\, 1101 Sherman Driv
 e\, Utica\, NY\, 13501\, United States
X-APPLE-STRUCTURED-LOCATION;VALUE=URI;X-ADDRESS=1101 Sherman Drive\, Utica\
 , NY\, 13501\, United States;X-APPLE-RADIUS=100;X-TITLE=Mohawk Valley Comm
 unity College (Utica Campus):geo:0,0
END:VEVENT
BEGIN:VTIMEZONE
TZID:America/New_York
X-LIC-LOCATION:America/New_York
BEGIN:DAYLIGHT
DTSTART:20240310T030000
TZOFFSETFROM:-0500
TZOFFSETTO:-0400
TZNAME:EDT
END:DAYLIGHT
END:VTIMEZONE
END:VCALENDAR